BEGIN:VCALENDAR
VERSION:2.0
PRODID:-//Rozhinkes - ECPv6.1.3//NONSGML v1.0//EN
CALSCALE:GREGORIAN
METHOD:PUBLISH
X-WR-CALNAME:Rozhinkes
X-ORIGINAL-URL:https://www.rozhinkes.de
X-WR-CALDESC:Veranstaltungen für Rozhinkes
REFRESH-INTERVAL;VALUE=DURATION:PT1H
X-Robots-Tag:noindex
X-PUBLISHED-TTL:PT1H
BEGIN:VTIMEZONE
TZID:Europe/Berlin
BEGIN:DAYLIGHT
TZOFFSETFROM:+0100
TZOFFSETTO:+0200
TZNAME:CEST
DTSTART:20190331T010000
END:DAYLIGHT
BEGIN:STANDARD
TZOFFSETFROM:+0200
TZOFFSETTO:+0100
TZNAME:CET
DTSTART:20191027T010000
END:STANDARD
END:VTIMEZONE
BEGIN:VEVENT
DTSTART;TZID=Europe/Berlin:20190422T160000
DTEND;TZID=Europe/Berlin:20190422T180000
DTSTAMP:20260421T110348
CREATED:20190129T152053Z
LAST-MODIFIED:20190129T152053Z
UID:5499-1555948800-1555956000@www.rozhinkes.de
SUMMARY:Oyfn Veg Tsum Glik
DESCRIPTION:InfoKartenBesetzung (Rozhinkes Traditional): \n\nSamuel Seifert (Violine\, Harmonika\, Gesang)\nLuba Claus (Gesang)\nRobert Herrmann (Piano)\n\n\nVeranstaltungsort:\nSchloss Ostrau\nSchloßstraße 11\n06193 Petersberg \n  Tickets gibt es an der Abendkasse
URL:https://www.rozhinkes.de/termin/oyfn-veg-tsum-glik-petersberg/
LOCATION:Petersberg
CATEGORIES:öffentlich
END:VEVENT
END:VCALENDAR