BEGIN:VCALENDAR
VERSION:2.0
PRODID:-//Rozhinkes - ECPv6.1.3//NONSGML v1.0//EN
CALSCALE:GREGORIAN
METHOD:PUBLISH
X-ORIGINAL-URL:https://www.rozhinkes.de
X-WR-CALDESC:Veranstaltungen für Rozhinkes
REFRESH-INTERVAL;VALUE=DURATION:PT1H
X-Robots-Tag:noindex
X-PUBLISHED-TTL:PT1H
BEGIN:VTIMEZONE
TZID:Europe/Berlin
BEGIN:DAYLIGHT
TZOFFSETFROM:+0100
TZOFFSETTO:+0200
TZNAME:CEST
DTSTART:20180325T010000
END:DAYLIGHT
BEGIN:STANDARD
TZOFFSETFROM:+0200
TZOFFSETTO:+0100
TZNAME:CET
DTSTART:20181028T010000
END:STANDARD
BEGIN:DAYLIGHT
TZOFFSETFROM:+0100
TZOFFSETTO:+0200
TZNAME:CEST
DTSTART:20190331T010000
END:DAYLIGHT
BEGIN:STANDARD
TZOFFSETFROM:+0200
TZOFFSETTO:+0100
TZNAME:CET
DTSTART:20191027T010000
END:STANDARD
BEGIN:DAYLIGHT
TZOFFSETFROM:+0100
TZOFFSETTO:+0200
TZNAME:CEST
DTSTART:20200329T010000
END:DAYLIGHT
BEGIN:STANDARD
TZOFFSETFROM:+0200
TZOFFSETTO:+0100
TZNAME:CET
DTSTART:20201025T010000
END:STANDARD
BEGIN:DAYLIGHT
TZOFFSETFROM:+0100
TZOFFSETTO:+0200
TZNAME:CEST
DTSTART:20210328T010000
END:DAYLIGHT
BEGIN:STANDARD
TZOFFSETFROM:+0200
TZOFFSETTO:+0100
TZNAME:CET
DTSTART:20211031T010000
END:STANDARD
BEGIN:DAYLIGHT
TZOFFSETFROM:+0100
TZOFFSETTO:+0200
TZNAME:CEST
DTSTART:20220327T010000
END:DAYLIGHT
BEGIN:STANDARD
TZOFFSETFROM:+0200
TZOFFSETTO:+0100
TZNAME:CET
DTSTART:20221030T010000
END:STANDARD
BEGIN:DAYLIGHT
TZOFFSETFROM:+0100
TZOFFSETTO:+0200
TZNAME:CEST
DTSTART:20230326T010000
END:DAYLIGHT
BEGIN:STANDARD
TZOFFSETFROM:+0200
TZOFFSETTO:+0100
TZNAME:CET
DTSTART:20231029T010000
END:STANDARD
BEGIN:DAYLIGHT
TZOFFSETFROM:+0100
TZOFFSETTO:+0200
TZNAME:CEST
DTSTART:20240331T010000
END:DAYLIGHT
BEGIN:STANDARD
TZOFFSETFROM:+0200
TZOFFSETTO:+0100
TZNAME:CET
DTSTART:20241027T010000
END:STANDARD
BEGIN:DAYLIGHT
TZOFFSETFROM:+0100
TZOFFSETTO:+0200
TZNAME:CEST
DTSTART:20250330T010000
END:DAYLIGHT
BEGIN:STANDARD
TZOFFSETFROM:+0200
TZOFFSETTO:+0100
TZNAME:CET
DTSTART:20251026T010000
END:STANDARD
END:VTIMEZONE
BEGIN:VEVENT
DTSTART;TZID=Europe/Berlin:20250208T190000
DTEND;TZID=Europe/Berlin:20250208T233000
DTSTAMP:20260425T215639
CREATED:20250119T193748Z
LAST-MODIFIED:20250119T194912Z
UID:5816-1739041200-1739057400@www.rozhinkes.de
SUMMARY:10. Klezmer Doppelkonzert mit ROZHINKES\, Stella's Morgenstern und DJ Reverend Joe
DESCRIPTION:Das traditionsreiche Klezmer Doppelkonzert mit Rozhinkes und Gästen feiert seine Jubiläums-Edition! Unterstützt von der FeG Leipzig\, dem Lille RingCafé\, der Holger Koppe-Stiftung und dem Stay Kooook-Hotel. \nTrio Rozhinkes Seifert Meyer Herrmann 10. Klezmer Doppelkonzert 08.02.2025 Unsere Gäste beim 10. Klezmer Doppelkonzert
URL:https://www.rozhinkes.de/termin/10-klezmer-doppelkonzert-mit-rozhinkes-stellas-morgenstern-und-dj-reverend-joe/
LOCATION:Leipzig
CATEGORIES:öffentlich
ORGANIZER;CN="FeG%20Leipzig":MAILTO:jochern.riemer@feg.de
END:VEVENT
BEGIN:VEVENT
DTSTART;TZID=Europe/Berlin:20200315T180000
DTEND;TZID=Europe/Berlin:20200315T180000
DTSTAMP:20260425T215639
CREATED:20200103T170448Z
LAST-MODIFIED:20200103T170503Z
UID:5544-1584295200-1584295200@www.rozhinkes.de
SUMMARY:Konzert zum Festakt „20 Jahre „Schalom“-Restaurant“
DESCRIPTION:InfoKartenKonzert zum Festakt „20 Jahre „Schalom“-Restaurant“ \nBesetzung: ROZHINKES Instrumental \n\nSamuel Seifert (Violine\, Harmonika)\nFriederike von Oppeln-Bronikowski (Klarinette)\nTilmann Löser (Piano)\n\n\nVeranstaltungsort:\nRestaurant „Schalom“\nHeinrich-Zille-Straße 15\n09111 Chemnitz \nVeranstalter:\nEine Veranstaltung des Schalom in Chemnitz\n• Website – Schalom Eintrittspreis: wird noch bekannt gegeben\nReservierung unter: 0371 / 69 57 769
URL:https://www.rozhinkes.de/termin/konzert-zum-festakt-20-jahre-schalom-restaurant/
LOCATION:Chemnitz
CATEGORIES:öffentlich
END:VEVENT
BEGIN:VEVENT
DTSTART;TZID=Europe/Berlin:20200312T200000
DTEND;TZID=Europe/Berlin:20200312T200000
DTSTAMP:20260425T215639
CREATED:20200103T164939Z
LAST-MODIFIED:20200103T165907Z
UID:5542-1584043200-1584043200@www.rozhinkes.de
SUMMARY:Musikalische Lesung zum „Kurt-Weill-Fest“ mit den Kabarettisten Bernd-Lutz Lange und Küf Kaufmann
DESCRIPTION:InfoBesetzung: ROZHINKES Instrumental \n\nSamuel Seifert (Violine\, Harmonika)\nFriederike von Oppeln-Bronikowski (Klarinette)\nTilmann Löser (Piano)
URL:https://www.rozhinkes.de/termin/musikalische-lesung-zum-kurt-weill-fest/
LOCATION:Dessau
CATEGORIES:öffentlich
END:VEVENT
BEGIN:VEVENT
DTSTART;TZID=Europe/Berlin:20200308T150000
DTEND;TZID=Europe/Berlin:20200308T150000
DTSTAMP:20260425T215639
CREATED:20200103T164109Z
LAST-MODIFIED:20200103T164109Z
UID:5540-1583679600-1583679600@www.rozhinkes.de
SUMMARY:Jüdische Gemeinde Orthodoxe Synagoge
DESCRIPTION:InfoJüdische Gemeinde Orthodoxe Synagoge \nBesetzung: Rozhinkes Traditional \n\nVeranstaltungsort:\ngeschlossene Veranstaltung
URL:https://www.rozhinkes.de/termin/juedische-gemeinde-orthodoxe-synagoge/
LOCATION:Cottbus
CATEGORIES:privat
END:VEVENT
BEGIN:VEVENT
DTSTART;TZID=Europe/Berlin:20200208T170000
DTEND;TZID=Europe/Berlin:20200208T170000
DTSTAMP:20260425T215639
CREATED:20200103T163734Z
LAST-MODIFIED:20200103T163734Z
UID:5538-1581181200-1581181200@www.rozhinkes.de
SUMMARY:Gedenkkonzert anlässlich 75 Jahre Auflösung des KZ „Magda“
DESCRIPTION:InfoGedenkkonzert anlässlich 75 Jahre Auflösung des KZ „Magda“ in Magdeburg-Rothensee am 9. Februar 1945. \nBesetzung: Rozhinkes Instrumental \n\nVeranstaltungsort:\nConnect – Kirchen am Hassel\n(Freie evangelische Gemeinde Magdeburg)\nBreiter Weg 230\n39104 Magdeburg
URL:https://www.rozhinkes.de/termin/gedenkkonzert-anlaesslich-75-jahre-aufloesung-des-kz-magda/
LOCATION:Magdeburg
CATEGORIES:öffentlich
END:VEVENT
BEGIN:VEVENT
DTSTART;TZID=Europe/Berlin:20200201T190000
DTEND;TZID=Europe/Berlin:20200201T190000
DTSTAMP:20260425T215639
CREATED:20200103T163207Z
LAST-MODIFIED:20200103T163244Z
UID:5535-1580583600-1580583600@www.rozhinkes.de
SUMMARY:Klezmer Doppelkonzert mit HALVA und DJ Reverend Joe
DESCRIPTION:InfoKarten\n		\n		\n		\nDoppelkonzert\nNeuauflage unseres Doppelkonzert-Formats. Diesmal mit HALVA und DJ Reverend Joe. \n\nVeranstaltungsort:\nRing-Café\nRoßplatz 8\n04103 Leipzig \nMit freundlicher Unterstützung von FeG Leipzig und Lille RingCafé.\n• Webseite – FEG Leipzig Ticketpreise: 16\,50€ / Ermäßigt 11\,00€\n(Ermäßigung für Schüler\, Studenten\, Schwerbeschädigte) \nMusikalienhandlung Oelsner\nSchillerstraße 5 / 04109 Leipzig\n0341 – 960 56 56
URL:https://www.rozhinkes.de/termin/klezmer-doppelkonzert-mit-halva-und-dj-reverend-joe/
LOCATION:Leipzig
CATEGORIES:öffentlich
END:VEVENT
BEGIN:VEVENT
DTSTART;TZID=Europe/Berlin:20200122T200000
DTEND;TZID=Europe/Berlin:20200122T200000
DTSTAMP:20260425T215639
CREATED:20200103T162120Z
LAST-MODIFIED:20200103T162120Z
UID:5531-1579723200-1579723200@www.rozhinkes.de
SUMMARY:Konzert in „Klezmer with Friends“
DESCRIPTION:InfoKartenBesetzung (Rozhinkes Traditional): \n\nSamuel Seifert (Violine\, Harmonika\, Gesang)\nLuba Meyer (Gesang)\nRobert Herrmann (Piano)\n\n\nVeranstaltungsort:\nBudde-Haus Soziokulturelles Zentrum\nLützowstraße 19\n04157 Leipzig \n  10\,00 € / 8\,00 € (Erm.) \nKarten Reservierung:  \n\nticket@budde-haus.de\nund unter 0341 – 90 96 00 37
URL:https://www.rozhinkes.de/termin/konzert-in-klezmer-with-friends/
LOCATION:Leipzig
CATEGORIES:öffentlich
END:VEVENT
BEGIN:VEVENT
DTSTART;TZID=Europe/Berlin:20191117T180000
DTEND;TZID=Europe/Berlin:20191117T180000
DTSTAMP:20260425T215639
CREATED:20200103T161531Z
LAST-MODIFIED:20200103T164225Z
UID:5529-1574013600-1574013600@www.rozhinkes.de
SUMMARY:Konzert im „Schalom“-Restaurant
DESCRIPTION:InfoROZHINKES Instrumental
URL:https://www.rozhinkes.de/termin/konzert-im-schalom-restaurant-2020/
LOCATION:Chemnitz
CATEGORIES:öffentlich
END:VEVENT
BEGIN:VEVENT
DTSTART;TZID=Europe/Berlin:20191006T190000
DTEND;TZID=Europe/Berlin:20191006T190000
DTSTAMP:20260425T215639
CREATED:20200103T161435Z
LAST-MODIFIED:20200103T161435Z
UID:5526-1570388400-1570388400@www.rozhinkes.de
SUMMARY:Konzert zur Tagung des „Kriegsenkel e.V.“
DESCRIPTION:InfoROZHINKES Instrumental / International
URL:https://www.rozhinkes.de/termin/konzert-zur-tagung-des-kriegsenkel-e-v/
LOCATION:Neudietendorf
CATEGORIES:öffentlich
END:VEVENT
BEGIN:VEVENT
DTSTART;TZID=Europe/Berlin:20190829T180000
DTEND;TZID=Europe/Berlin:20190829T180000
DTSTAMP:20260425T215639
CREATED:20200103T161303Z
LAST-MODIFIED:20200103T161303Z
UID:5524-1567101600-1567101600@www.rozhinkes.de
SUMMARY:Konzert im „Schalom“-Restaurant
DESCRIPTION:InfoROZHINKES Traditional
URL:https://www.rozhinkes.de/termin/konzert-im-schalom-restaurant/
LOCATION:Chemnitz
CATEGORIES:öffentlich
END:VEVENT
BEGIN:VEVENT
DTSTART;TZID=Europe/Berlin:20190825T180000
DTEND;TZID=Europe/Berlin:20190825T180000
DTSTAMP:20260425T215639
CREATED:20200103T161206Z
LAST-MODIFIED:20200103T161206Z
UID:5522-1566756000-1566756000@www.rozhinkes.de
SUMMARY:Musikalische Umrahmung „Nachteulen-Gottesdienst“
DESCRIPTION:InfoROZHINKES Instrumental
URL:https://www.rozhinkes.de/termin/musikalische-umrahmung-nachteulen-gottesdienst/
LOCATION:Leipzig
CATEGORIES:öffentlich
END:VEVENT
BEGIN:VEVENT
DTSTART;TZID=Europe/Berlin:20190804T160000
DTEND;TZID=Europe/Berlin:20190804T160000
DTSTAMP:20260425T215639
CREATED:20200103T161109Z
LAST-MODIFIED:20200103T161109Z
UID:5520-1564934400-1564934400@www.rozhinkes.de
SUMMARY:Konzert zur „Leipziger Marktmusik“
DESCRIPTION:InfoROZHINKES Instrumental / International
URL:https://www.rozhinkes.de/termin/konzert-zur-leipziger-marktmusik/
LOCATION:Leipzig
CATEGORIES:öffentlich
END:VEVENT
BEGIN:VEVENT
DTSTART;TZID=Europe/Berlin:20190629T200000
DTEND;TZID=Europe/Berlin:20190629T220000
DTSTAMP:20260425T215639
CREATED:20190129T152721Z
LAST-MODIFIED:20190527T180844Z
UID:5502-1561838400-1561845600@www.rozhinkes.de
SUMMARY:Oyfn Veg Tsum Glik
DESCRIPTION:InfoKartenBesetzung (Rozhinkes Traditional): \n\nSamuel Seifert (Violine\, Harmonika\, Gesang)\nLuba Claus (Gesang)\nRobert Herrmann (Piano)\n\n\nVeranstaltungsort:\nKirchenruine Wachau\nKirchplatz 1\n04416 Markkleeberg  \n  14\,00 € / 11\,00 € (Erm.) \nKarten Vorverkauf:  \n\nwww.kirchenruinewachau.de\nTouristinfo Markkleeberg\nCafé im Pfarrhaus Störmthal\nund unter 0179 – 44 59 289
URL:https://www.rozhinkes.de/termin/oyfn-veg-tsum-glik-wachau/
LOCATION:Markkleeberg
CATEGORIES:öffentlich
END:VEVENT
BEGIN:VEVENT
DTSTART;TZID=Europe/Berlin:20190422T160000
DTEND;TZID=Europe/Berlin:20190422T180000
DTSTAMP:20260425T215639
CREATED:20190129T152053Z
LAST-MODIFIED:20190129T152053Z
UID:5499-1555948800-1555956000@www.rozhinkes.de
SUMMARY:Oyfn Veg Tsum Glik
DESCRIPTION:InfoKartenBesetzung (Rozhinkes Traditional): \n\nSamuel Seifert (Violine\, Harmonika\, Gesang)\nLuba Claus (Gesang)\nRobert Herrmann (Piano)\n\n\nVeranstaltungsort:\nSchloss Ostrau\nSchloßstraße 11\n06193 Petersberg \n  Tickets gibt es an der Abendkasse
URL:https://www.rozhinkes.de/termin/oyfn-veg-tsum-glik-petersberg/
LOCATION:Petersberg
CATEGORIES:öffentlich
END:VEVENT
BEGIN:VEVENT
DTSTART;TZID=Europe/Berlin:20190310T190000
DTEND;TZID=Europe/Berlin:20190310T210000
DTSTAMP:20260425T215639
CREATED:20190129T145018Z
LAST-MODIFIED:20190129T151605Z
UID:5495-1552244400-1552251600@www.rozhinkes.de
SUMMARY:Shpil\, Klezmer\, Shpil!
DESCRIPTION:InfoKartenIm Rahmen des Festival „28. Tage der jüdischen Kultur Chemnitz“ \nBesetzung (Rozhinkes Instrumental): \n\nSamuel Seifert (Violine\, Harmonika)\nFriederike von Oppeln-Bronikowski (Klarinette)\nTilmann Löser (Piano)\n\n\nVeranstaltungsort:\nLehmanns Café\nMarkersdorfer Straße 112\n09123 Chemnitz \nTelefon: 0371 / 226216 \n Infos folgen.
URL:https://www.rozhinkes.de/termin/shpil-klezmer-shpil-chemnitz/
LOCATION:Chemnitz
CATEGORIES:öffentlich
END:VEVENT
BEGIN:VEVENT
DTSTART;TZID=Europe/Berlin:20190224T180000
DTEND;TZID=Europe/Berlin:20190224T210000
DTSTAMP:20260425T215639
CREATED:20190129T144236Z
LAST-MODIFIED:20190129T144236Z
UID:5492-1551031200-1551042000@www.rozhinkes.de
SUMMARY:Oyfn Veg Tsum Glik
DESCRIPTION:InfoKartenBesetzung (Rozhinkes Traditional): \n\nSamuel Seifert (Violine\, Harmonika\, Gesang)\nLuba Claus (Gesang)\nRobert Herrmann (Piano)\n\n\nVeranstaltungsort:\nRestaurant „Schalom“\nHeinrich-Zille-Str. 15\n09111 Chemnitz \n Infos folgen.
URL:https://www.rozhinkes.de/termin/oyfn-veg-tsum-glik-chemnitz/
LOCATION:Chemnitz
CATEGORIES:öffentlich
END:VEVENT
BEGIN:VEVENT
DTSTART;TZID=Europe/Berlin:20190223T180000
DTEND;TZID=Europe/Berlin:20190223T180000
DTSTAMP:20260425T215639
CREATED:20190129T161726Z
LAST-MODIFIED:20190129T162529Z
UID:5506-1550944800-1550944800@www.rozhinkes.de
SUMMARY:Doppelkonzert: Rozhinkes mit Svetlana Kundish & Patrick Farrell
DESCRIPTION:InfoKarten\n		\n		\n		\nDoppelkonzert\nNeuauflage unseres Doppelkonzert-Formats. Diesmal mit Svetlana Kundish & Patrick Farrell \n\n18:00 Uhr Einlass\n19:00 Uhr Beginn mit Rozhinkes (Samuel Seifert – Violine\, Gesang; Luba Claus – Gesang; Robert Herrmann – Klavier)\n20:00 Uhr Svetlana Kundish – Gesang & Patrick Farrell – Akkordeon\n21:00 Uhr Musik mit DJ Boureni\n\n  \n\nVeranstaltungsort:\nRing-Café\nRoßplatz 8\n04103 Leipzig \nMit freundlicher Unterstützung von FeG Leipzig und Lille RingCafé.\n• Webseite – FEG Leipzig Ticketpreise: 15\,00€ / Ermäßigt 10\,00€\n(Ermäßigung für Schüler\, Studenten\, Schwerbeschädigte) \nKartenvorverkauf ab Januar 2019 \nMusikalienhandlung Oelsner\nSchillerstraße 5 / 04109 Leipzig\n0341 – 960 52 00
URL:https://www.rozhinkes.de/termin/doppelkonzert-rozhinkes-mit-svetlana-kundish-patrick-farrell/
LOCATION:Leipzig
CATEGORIES:öffentlich
END:VEVENT
BEGIN:VEVENT
DTSTART;TZID=Europe/Berlin:20181209T173000
DTEND;TZID=Europe/Berlin:20181209T173000
DTSTAMP:20260425T215639
CREATED:20181019T171737Z
LAST-MODIFIED:20181019T171737Z
UID:5461-1544376600-1544376600@www.rozhinkes.de
SUMMARY:Oyfn Veg Tsum Glik
DESCRIPTION:InfoKartenBesetzung (Rozhinkes Traditional): \n\nLuba Claus (Gesang)\nSamuel Seifert (Violine\, Harmonika\, Gesang)\nTilmann Löser (Piano)\n\n\nVeranstaltungsort:\nJüdische Gemeinde zu Dresden\nHasenberg 1\n01067 Dresden \n Infos folgen.
URL:https://www.rozhinkes.de/termin/oyfn-veg-tsum-glik-dresden/
LOCATION:Dresden
CATEGORIES:öffentlich
END:VEVENT
BEGIN:VEVENT
DTSTART;TZID=Europe/Berlin:20181208T180000
DTEND;TZID=Europe/Berlin:20181208T180000
DTSTAMP:20260425T215639
CREATED:20181019T171406Z
LAST-MODIFIED:20181019T171406Z
UID:5458-1544292000-1544292000@www.rozhinkes.de
SUMMARY:Oyfn Veg Tsum Glik
DESCRIPTION:InfoKartenBesetzung (Rozhinkes Traditional): \n\nLuba Claus (Gesang)\nSamuel Seifert (Violine\, Harmonika\, Gesang)\nTilmann Löser (Piano)\n\n\nVeranstaltungsort:\nJüdische Gemeinde Herford-Detmold\nKomturstraße 21\n32052 Herford \n Infos folgen.
URL:https://www.rozhinkes.de/termin/oyfn-veg-tsum-glik-herford/
LOCATION:Herford
CATEGORIES:öffentlich
END:VEVENT
BEGIN:VEVENT
DTSTART;TZID=Europe/Berlin:20181202T180000
DTEND;TZID=Europe/Berlin:20181202T180000
DTSTAMP:20260425T215639
CREATED:20181019T170917Z
LAST-MODIFIED:20181019T171512Z
UID:5456-1543773600-1543773600@www.rozhinkes.de
SUMMARY:Chanukkah-Konzert
DESCRIPTION:InfoKarten\nVeranstaltungsort:\nRestaurant „Schalom“\nHeinrich-Zille-Str. 15\n09111 Chemnitz \n Infos folgen.
URL:https://www.rozhinkes.de/termin/chanukkah-konzert-chemnitz/
LOCATION:Chemnitz
CATEGORIES:öffentlich
END:VEVENT
BEGIN:VEVENT
DTSTART;TZID=Europe/Berlin:20181125T110000
DTEND;TZID=Europe/Berlin:20181125T110000
DTSTAMP:20260425T215639
CREATED:20181019T170712Z
LAST-MODIFIED:20181019T170712Z
UID:5453-1543143600-1543143600@www.rozhinkes.de
SUMMARY:Oyfn Veg Tsum Glik
DESCRIPTION:InfoKartenBesetzung (Rozhinkes Traditional): \n\nLuba Claus (Gesang)\nSamuel Seifert (Violine\, Harmonika\, Gesang)\nTilmann Löser (Piano)\n\n\nVeranstaltungsort:\nJüdische Gemeinde Elmshorn\nFlamweg 6\n25335 Elmshorn \n Infos folgen.
URL:https://www.rozhinkes.de/termin/oyfn-veg-tsum-glik-elmshorn/
LOCATION:Elmshorn
CATEGORIES:öffentlich
END:VEVENT
BEGIN:VEVENT
DTSTART;TZID=Europe/Berlin:20181118T150000
DTEND;TZID=Europe/Berlin:20181118T150000
DTSTAMP:20260425T215639
CREATED:20181019T170407Z
LAST-MODIFIED:20181019T170542Z
UID:5447-1542553200-1542553200@www.rozhinkes.de
SUMMARY:Oyfn Veg Tsum Glik
DESCRIPTION:InfoKartenBesetzung (Rozhinkes Traditional): \n\nLuba Claus (Gesang)\nSamuel Seifert (Violine\, Harmonika\, Gesang)\nTilmann Löser (Piano)\n\n\nVeranstaltungsort:\nJüdische Kultusgemeinde Bad Kreuznach\nAlzeyerstraße 63\n55543 Bad Kreuznach \n Infos folgen.
URL:https://www.rozhinkes.de/termin/oyfn-veg-tsum-glik-bad-kreuznach/
LOCATION:Bad Kreuznach
CATEGORIES:öffentlich
END:VEVENT
BEGIN:VEVENT
DTSTART;TZID=Europe/Berlin:20181103T180000
DTEND;TZID=Europe/Berlin:20181103T180000
DTSTAMP:20260425T215639
CREATED:20181019T170239Z
LAST-MODIFIED:20181019T170257Z
UID:5444-1541268000-1541268000@www.rozhinkes.de
SUMMARY:Oyfn Veg Tsum Glik
DESCRIPTION:InfoKartenBesetzung (Rozhinkes Traditional): \n\nLuba Claus (Gesang)\nSamuel Seifert (Violine\, Harmonika\, Gesang)\nTilmann Löser (Piano)\n\n\nVeranstaltungsort:\nJüdische Gemeinde Giessen\nBurggraben 4\n35390 Gießen \n Infos folgen.
URL:https://www.rozhinkes.de/termin/oyfn-veg-tsum-glik-giessen/
LOCATION:Gießen
CATEGORIES:öffentlich
END:VEVENT
BEGIN:VEVENT
DTSTART;TZID=Europe/Berlin:20181018T203000
DTEND;TZID=Europe/Berlin:20181018T203000
DTSTAMP:20260425T215639
CREATED:20181019T170035Z
LAST-MODIFIED:20181019T170117Z
UID:5440-1539894600-1539894600@www.rozhinkes.de
SUMMARY:Oyfn Veg Tsum Glik
DESCRIPTION:InfoKartenBesetzung (Rozhinkes Traditional): \n\nLuba Claus (Gesang)\nSamuel Seifert (Violine\, Harmonika\, Gesang)\nTilmann Löser (Piano)\n\n\nVeranstaltungsort:\nYungYidish\nLevinsky 108\nTel Aviv – Jaffa (Israel) \n Infos folgen.
URL:https://www.rozhinkes.de/termin/oyfn-veg-tsum-glik-telaviv/
LOCATION:Tel Aviv – Jaffa (Israel)
CATEGORIES:öffentlich
END:VEVENT
BEGIN:VEVENT
DTSTART;TZID=Europe/Berlin:20181007T170000
DTEND;TZID=Europe/Berlin:20181007T170000
DTSTAMP:20260425T215639
CREATED:20181019T165704Z
LAST-MODIFIED:20181019T165704Z
UID:5438-1538931600-1538931600@www.rozhinkes.de
SUMMARY:Oyfn Veg Tsum Glik
DESCRIPTION:InfoKartenBesetzung (Rozhinkes Traditional): \n\nLuba Claus (Gesang)\nSamuel Seifert (Violine\, Harmonika\, Gesang)\nTilmann Löser (Piano)\n\n\nVeranstaltungsort:\nKultur- und Begegnungszentrum „Ariowitschhaus“\nHinrichsenstraße 14\n04105 Leipzig \n Infos folgen.
URL:https://www.rozhinkes.de/termin/oyfn-veg-tsum-glik-leipzig/
LOCATION:Leipzig
CATEGORIES:öffentlich
END:VEVENT
BEGIN:VEVENT
DTSTART;TZID=Europe/Berlin:20180926T193000
DTEND;TZID=Europe/Berlin:20180926T193000
DTSTAMP:20260425T215639
CREATED:20181019T165449Z
LAST-MODIFIED:20191002T141644Z
UID:5433-1537990200-1537990200@www.rozhinkes.de
SUMMARY:Oyfn Veg Tsum Glik
DESCRIPTION:InfoKartenBesetzung (Rozhinkes Traditional): \n\nLuba Claus (Gesang)\nSamuel Seifert (Violine\, Harmonika\, Gesang)\nTilmann Löser (Piano)\n\n\nVeranstaltungsort:\nSynagoge\nJüdenstraße 24\n99974 Mühlhausen/Thüringen \n Infos folgen.
URL:https://www.rozhinkes.de/termin/oyfn-veg-tsum-glik-muehlhausen/
LOCATION:Mühlhausen
CATEGORIES:öffentlich
END:VEVENT
BEGIN:VEVENT
DTSTART;TZID=Europe/Berlin:20180901T170000
DTEND;TZID=Europe/Berlin:20180901T170000
DTSTAMP:20260425T215639
CREATED:20180814T111054Z
LAST-MODIFIED:20180814T113226Z
UID:5357-1535821200-1535821200@www.rozhinkes.de
SUMMARY:Klezmer-Konzert mit Rozhinkes
DESCRIPTION:InfoKartenKlezmer und jiddische Lieder rund um das Streben nach Glück. \n\nVeranstaltungsort:\nNathanaelkirche\nRietschelstraße 10\n04177 Leipzig \n\n		\n		\n		 Tickets gibts online bei Eventim (zzgl. Vvk-Gebühr) und an der Abendkasse. \n\n15\,00€ / Ermäßigt 12\,00€\nErmäßigung für Schüler\, Studenten\, Rentner\, Arbeitslose.\n40\,00€ Familienkarte\n2 Erwachsene und max. 3 Kinder bis 18 J.
URL:https://www.rozhinkes.de/termin/klezmer-konzert-mit-rozhinkes/
LOCATION:Leipzig
CATEGORIES:öffentlich
END:VEVENT
BEGIN:VEVENT
DTSTART;TZID=Europe/Berlin:20180826T180000
DTEND;TZID=Europe/Berlin:20180826T180000
DTSTAMP:20260425T215639
CREATED:20171205T114957Z
LAST-MODIFIED:20171205T115003Z
UID:5329-1535306400-1535306400@www.rozhinkes.de
SUMMARY:Nachteulengottesdienst in der Thomaskirche
DESCRIPTION:InfoKartenFarbig ausgeleuchtete Kirche und Bewegung im Raum – wir gestalten gemeinsam mit Pfarrer Hundertmark einen alternativen Gottesdienst. \n\nVeranstaltungsort:\nThomaskirche Leipzig\nThomaskirchhof 18\n04109 Leipzig \nVeranstalter:\nEv.- Luth. Kirchgemeinde St. Thomas Leipzig\nThomaskirchhof 18\n04109 Leipzig  \nTelefon: +49 (0) 341 – 222 24-0\nE-Mail: info@thomaskirche.org \nInternet: • Webseite – Thomaskirche  Eintritt frei.
URL:https://www.rozhinkes.de/termin/nachteulengottesdienst-in-der-thomaskirche-2018/
LOCATION:Leipzig
CATEGORIES:öffentlich
END:VEVENT
BEGIN:VEVENT
DTSTART;TZID=Europe/Berlin:20180614T180000
DTEND;TZID=Europe/Berlin:20180614T180000
DTSTAMP:20260425T215639
CREATED:20171229T131809Z
LAST-MODIFIED:20171229T131809Z
UID:5337-1528999200-1528999200@www.rozhinkes.de
SUMMARY:Konzert im Restaurant „Schalom“
DESCRIPTION:InfoKartenAuftritt: „Klezmer & more“\nBesetzung: mit Luba Claus \n\nVeranstaltungsort:\nRestaurant „Schalom“\nHeinrich-Zille-Straße 15\n09111 Chemnitz \nVeranstalter:\nEine Veranstaltung des Schalom in Chemnitz\n• Website – Schalom Eintrittspreis: 13\,00 €\nReservierung unter: 0371 / 69 57 769
URL:https://www.rozhinkes.de/termin/konzert-im-restaurant-schalom-2/
LOCATION:Chemnitz
CATEGORIES:öffentlich
END:VEVENT
BEGIN:VEVENT
DTSTART;TZID=Europe/Berlin:20180526T180000
DTEND;TZID=Europe/Berlin:20180526T180000
DTSTAMP:20260425T215639
CREATED:20171229T131443Z
LAST-MODIFIED:20171229T131514Z
UID:5336-1527357600-1527357600@www.rozhinkes.de
SUMMARY:Konzert mit dem Gewandhaus Kinderchor
DESCRIPTION:InfoKarten„Der weiße Regenbogen – Jüdische Musik aus aller Welt“ \nMit dem Gewandhaus Kinderchor und Musikern des Gewandhausorchesters.\n– Peter A. Bauer (Percussion)\n– Frank-Steffen Elster (Leitung) \n\nVeranstaltungsort:\nGewandhaus zu Leipzig / Mendelssohn-Saal\nAugustusplatz 8\n04109 Leipzig  \nTicketpreise: 14\,00€ / Ermäßigt 12\,00€\n(Ermäßigung für Schüler\, Studenten\, Schwerbeschädigte) \nVorverkauf (u.a.):\nMail: ticket@gewandhaus.de\nTelefon: 0341 / 12 70 280
URL:https://www.rozhinkes.de/termin/konzert-mit-dem-gewandhaus-kinderchor/
LOCATION:Leipzig
CATEGORIES:öffentlich
END:VEVENT
END:VCALENDAR